BEGIN:VCALENDAR
VERSION:2.0
PRODID:-//Il Gatto - ECPv4.6.18//NONSGML v1.0//EN
CALSCALE:GREGORIAN
METHOD:PUBLISH
X-WR-CALNAME:Il Gatto
X-ORIGINAL-URL:https://www.ilgatto.ch
X-WR-CALDESC:Events for Il Gatto
BEGIN:VEVENT
DTSTART;TZID=Europe/Rome:20220425T203000
DTEND;TZID=Europe/Rome:20220425T203000
DTSTAMP:20260424T085549
CREATED:20220111T090812Z
LAST-MODIFIED:20220111T090812Z
UID:10542-1650918600-1650918600@www.ilgatto.ch
SUMMARY:SAMARA JOY
DESCRIPTION:JAZZ CAT CLUB \nCon:\nSamara Joy: Vocals\nBen Paterson: Piano\nMathias Allamane: Bass\nMalte Arndal: Drums \nDopo Emmet Cohen\, il Jazz Cat Club intercetta nuovamente uno dei più interessanti nomi fra i giovani emergenti del jazz. Parliamo di Samara Joy\, cantante di New York dalla voce morbida come il velluto\, cui sono in molti a predire un futuro da stella del jazz. Vincitrice nel 2019 del prestigioso Sarah Vaughan International Jazz Vocal Competition\, Samara proviene da una famiglia di musicisti\, è cresciuta nel Bronx con il gospel e ha maturato interesse per il jazz nell’età del college. A soli 23 anni si è già esibita nei più importanti jazz club di New York. Nell’estate 2021 ha pubblicato il suo album di debutto\, acclamato dalla critica\, in cui senza perdere di vista l’innata semplicità della sua voce\, riesce a imprimere un tocco originale ed inconfondibile a standard del jazz e dell’American Songbook senza tempo. \n  \nPer prenotazione dei biglietti e informazioni\nTel. +41 78 733 66 12 (dalle 13:30 alle 17:30)\nemail: info@jazzcatclub.ch\nwww.jazzcatclub.ch \n
URL:https://www.ilgatto.ch/event/samara-joy/
LOCATION:via Muraccio 21\, Ascona\, 6612\, Svizzera
CATEGORIES:Musica
ATTACH;FMTTYPE=image/jpeg:https://www.ilgatto.ch/wp-content/uploads/2022/01/Samara-Joy_800.jpg
ORGANIZER;CN="Jazz%20Cat%20Club%20Ascona":MAILTO:info@jazzcatclub.ch
END:VEVENT
END:VCALENDAR