BEGIN:VCALENDAR
VERSION:2.0
PRODID:-//Il Gatto - ECPv4.6.18//NONSGML v1.0//EN
CALSCALE:GREGORIAN
METHOD:PUBLISH
X-WR-CALNAME:Il Gatto
X-ORIGINAL-URL:https://www.ilgatto.ch
X-WR-CALDESC:Events for Il Gatto
BEGIN:VEVENT
DTSTART;TZID=Europe/Rome:20231022T163000
DTEND;TZID=Europe/Rome:20231022T163000
DTSTAMP:20260424T123227
CREATED:20230726T090720Z
LAST-MODIFIED:20230929T082334Z
UID:11128-1697992200-1697992200@www.ilgatto.ch
SUMMARY:PIZZ' N'ZIP
DESCRIPTION:Un concerto scenico per grandi e piccini dai 5 anni di età\nMusiche di: Fauré\, Biber\, Glière\, Kurtàg\nRegia e direzione artistica: Pietro Gaudioso\nConsulente creativo: Dan Tanson\nInterpreti: Eleonora Savini (violino\, movimento e canto)\, Federica Vecchio (violoncello\, movimento e canto)\nManipolazioni di loop station e composizioni istantanee di: Eleonora Savini e Federica Vecchio\nArrangiamenti a cura di: Eleonora Savini\nCostumi: Rosamaria Francucci\, Elisabetta Dagostino\nScenografia: Andrea Sostero\nhttps://www.pizznzip.com/\n \nLo spettacolo:\nUn concerto sta per iniziare. Due figure entrano fiere di esibirsi per il proprio pubblico. Con loro\, su scena\, un microfono e uno strano pedale capace di registrare i suoni e accompagnare i musicisti: una loop station.\nOgni cosa però\, prima ancora di questa\, può essere strumento: fanno musica le zip\, i bottoni\, gli stessi passi delle concertiste mentre entrano in scena. E’ così che a poco a poco\, le due ragazze iniziano a conquistare spazio e pubblico. A prima vista sembra complicato distinguerle: la loro divisa è la stessa\, stessi i colori\, entrambe cantano. L’ unica chiara differenza è negli strumenti che suonano: una ha unviolino e una un violoncello.\nPian piano\, molte altre differenze verranno allo scoperto durante questo rocambolesco concerto: il loro stile\, i loro scopi e le loro passioni\, spesso totalmente in contrasto. Sebbene in un primo momento queste differenze sembrino compromettere il loro rapporto\, grazie proprio alla magia della musica e alla voglia di suonare assieme\, ognuna di esse ritrova l’ altra e se ne arricchisce\, permettendo al concerto di chiudersi in totale armonia.\nIl terzo personaggio\, il pedale della loop station\, è parte solida della drammaturgia: la musica nella modernità è creata da macchine\, che sembrano a volte prendere il sopravvento e “sminuire” l’ individuo nella sua unicità. Tuttavia la facile accessibilità alla musica di ogni tipo proprio grazie alla tecnologia permette ai giovani di oggi di venire continuamente stimolati e di arricchire il proprio panorama musicale\, composto da scelte profondamente personali. In questo senso\, la macchina offre una vasta gamma di stili e di interpretazioni tutte valide e interessanti\, dalla classica\, al charleston\, fino al rock ‘n’ roll. Potremmo dire che oggi non esiste più una distinzione tra generi musicali superiori o inferiori: la musica è tanta e diversa\, ogni genere ha i suoi codici e il suo personale fascino di cui godere. \nIl teatro musicale scenico è una moderna fusione tra musica e teatro e in questo caso anche fra danza e canto: le due performer oltre ad interpretare con i loro strumenti brani di ogni genere musicale\, recitano\, cantano e ballano mostrando come ogni idea\, ogni intenzione e ogni scopo possano essere espressi chiaramente senza bisogno di aggiungere parole. Un virtuosismo\, reso con ironia e leggerezza\, che permette a qualsiasi spettatore\, ancor più ai bambini\, di godere appieno dell’esecuzione dal vivo di brani che potrebbero normalmente risultare di difficile ascolto\, e di vivere quindi in prima persona l’immenso mondo di emozioni e sfumature che la musica sa offrire. \nLa compagnia:\nFEDERICA VECCHIO\, VIOLONCELLO\nFederica Vecchio ha studiato al conservatorio di Santa Cecilia di Roma con il M° F.Strano\, e si è diplomata presso il Conservatorio di Perugia F.Morlacchi nel settembre 2007\, sotto la guida del M° M.Damiani. Ha conseguito anche un Master in Classical String Performances con l’ ungherese M°Ferenz Szucs. Ha collaborato con numerose orchestre\, ensemble cameristici e spettacoli teatrali. Fra gli altri\, è membro del quartetto femminile Shararè\, e dell’ ottetto di violoncelli Edone. Attualmente lavora in differenti realtà musicali\, dal classico al bossa nova\, dall’ improvvisazione contemporanea al teatro musicale fino anche alle rock band. Con Marzia Ricciardi e Dosto ha fondato un nuovo trio teatrale/musicale\, Musicomici\, riscuotendo grande successo in “Italia’s Got Talent” 2013 e portando il proprio show\, “Allegro con Trio”\, in vari teatri italiani. La musica\, come il teatro\, è per lei un continuo flusso di nuove idee e progetti\, passione e dedizione.\nELEONORA SAVINI\, VIOLINO\nEleonora Savini si è diplomata presso il Conservatorio di Santa Cecilia in Roma con il massimo dei voti e ha conseguito il Master of Arts in Music Performance presso il Conservatorio della Svizzera Italiana (Lugano). Il suo eclettismo ed entusiasmo verso tutte le arti e i diversi generi musicali l’ hanno spinta a dedicarsi ad una carriera full-time nel teatro musicale: ha debuttato con “Heroïca” (vincitore del premio Junge Ohren Preis 2014)\, a seguire “Goldmädchen”\, entrambi produzione del Lucerne Festival\, “Domande” in Teatro Dimitri (Verscio)\, “Senegalliarde”\, “Voci di Notte” (Compagnia Teatro Daruma)\, “Foresta” (Philharmonie Luxembourg)\, “Mona Violina” (Lucerne Festival 2021). Ha collaborato con Musica- Impulscentrum voor Musiek (Neerpelt)\, e partecipato allo sviluppo dell’ Atelier “Babelut Parcours”\, per bambini dagli 0 ai 3 anni. I suoi show sono in continua diffusione nelle più importanti sale da concerto europee (KKL Luzern\, Elbphilharmonie Hamburg\, Philharmonie Luxembourg\, Wiener Konzerthaus\, Kölner Philharmonie) e insegna musica presso diverse scuole elementari e materne di Torino. \nIngresso:\nIntero CHF 25\nAVS e studenti CHF 20\nRagazzi fino ai 15 anni CHF 10\nBambini CHF 5 \n
URL:https://www.ilgatto.ch/event/pizz-nzip/
LOCATION:via Muraccio 21\, Ascona\, 6612\, Svizzera
CATEGORIES:Ospitiamo a Teatro
ATTACH;FMTTYPE=image/jpeg:https://www.ilgatto.ch/wp-content/uploads/2023/07/P1370677_800.jpg
ORGANIZER;CN="Teatro%20del%20Gatto":MAILTO:info@ilgatto.ch
END:VEVENT
END:VCALENDAR