BEGIN:VCALENDAR
VERSION:2.0
PRODID:-//Il Gatto - ECPv4.6.18//NONSGML v1.0//EN
CALSCALE:GREGORIAN
METHOD:PUBLISH
X-WR-CALNAME:Il Gatto
X-ORIGINAL-URL:https://www.ilgatto.ch
X-WR-CALDESC:Events for Il Gatto
BEGIN:VEVENT
DTSTART;TZID=Europe/Rome:20221217T203000
DTEND;TZID=Europe/Rome:20221217T203000
DTSTAMP:20260424T145644
CREATED:20220824T104415Z
LAST-MODIFIED:20221205T145314Z
UID:10742-1671309000-1671309000@www.ilgatto.ch
SUMMARY:GAIA GAUDI
DESCRIPTION:Di e con: Gardi Hutter\, Neda Cainero\,Beatriz Navarro\, Juri Cainero\nRegia e coautore: Michael Vogel\nComposizione: Juri Cainero\, Neda Cainero\nCoreografia: Beatriz Navarro\nAssistenza alla regia: Heleen Klooker\nSartoria: Vale Rinaldi (Bal val arte nomade)\nOggetti scenici: Mafalda Camara\, Beatrice Hutter\,Elena Bisignani\nCostruzioni: Thomas Fri Feydel\nGrafica: Enea Toldo\nTecnica tournee: Raffaella Benini\, Rebecca Vonlaufen\,Marius Kirch\nProduzione: Gardi Hutter\nCoproduzione: LuganoInScena (LAC Lugano) – Theater am Hechtplatz Zürich – Theaterhaus Stuttgart\nGardi Hutter \nLo spettacolo:\nPer fortuna moriamo. Altrimenti sulla terra regnerebbe una calca tremenda. Non si troverebbe uno spazio libero. Neanche a teatro.\nLa morte crea spazio per la prossima generazione. È morendo che la vita rinasce.\nGardi Hutter\, alias Hanna\, ha esperienza nel morire: in sette spettacoli su otto muore nel finale\, ma non rinuncia agli applausi e si rialza subito. La morte clownesca permette di ridere sul trapasso – il riso originario\, quello inventato dall’uomo per rappacificarsi con la propria fine.\nIn Gaia Gaudi Hanna è morta sin dall’inizio\, ma non si lascia di certo sopraffare da una cosa così banale. Continua il suo viaggio nell’ aldilà\, tra strambi strumenti musicali\, danze metamorfiche e immagini dal sentore mitologico. Nel frattempo\, nell’ aldiquà\, il clamore della generazione successiva diviene sempre più forte.\nLa morte\, come tutte le fini\, è sempre anche un inizio\, una nascita\, un passaggio. Per i credenti verso un altro mondo\, per gli scienziati verso un altro stadio\, e per i teatranti verso un’altra fantasia.\nGaia Gaudi parla di radici e di ali\, di stabilità e di cambiamento\, del grande ricambio delle generazioni che continuamente rinnovano il corso della vita\, e ogni tanto anche si azzuffano. \nGardi Hutter\, la clown più celebre della Svizzera\, e per tanti media\, anche del mondo\, si unisce a tre giovani artisti per creare uno spettacolo “generazionale”. Parlano – vivendolo direttamente in scena – di radici e ali\, di stabilità e di rinnovamento\, del grande ricambio delle generazioni che continuamente rinnovano il corso della vita. \nHanna\, l’alter ego clownesco di Gardi\, ha molta esperienza per morire: in otto spettacoli muore sette volte. La morte clownesca permette di ridere sulla morte – il riso originario\, inventato dall’uomo per rappacificarsi con l’idea della propria inevitabile fine. \nIn GAIA GAUDI Hanna è morta dall’inizio. Il pubblico lo capisce subito\, lei invece no. Non si lascia certo sopraffare da qualcosa di così poca importanza. Si dice che l’anima di un morto rimanga nello spazio ancora per un momento. L’anima di Hanna si agita così allegramente che il corpo si snerva: allora prende questa “cosa svolazzante” e la trascina al di là. Lui sente il rumoreggiare forte dalla nuova generazione dietro la porta\, che pretendono lo spazio.\nLa morte\, così come qualunque fine\, è sempre anche un inizio\, una nascita\, e\, in questo senso\, è soltanto un passaggio: per i credenti verso un altro mondo\, per gli scienziati verso un altro stato – e per gli artisti verso un’altra fantasia.\nLa storia è raccontata da una clown\, una cantante\, una ballerina e un percussionista. Naturalmente le sorprese sono inevitabili\, così come nella vita reale. \nLa compagnia:\nE’ dal 1981 che Gardi Hutter gira mezzo mondo con il suo TEATRO CLOWNESCO\, raggiungendo ad oggi le 3700 rappresentazioni in ben 35 paesi. In collaborazione con artisti/colleghi vari ha creato\, e recitato in 8 spettacoli di teatro clownesco\, cantato in 3 spettacoli musicali (divertenti\, ma non clowneschi) e in 1 programma di clown da circo. È stata riconosciuta con 18 premi artistici nazionali e internazionali. Diversi film+video documentano\, e diversi lavori di Master universitario analizzano\, la sua opera. Sostiene seminari alle università di Zurigo (ZHdK) e Lipsia (Istituto di Scienze teatrali). Ha avuto l’onore di fare il BUFFONE DI CORTE al Parlamento Svizzero per i festeggiamenti dei 700° anni.La sua formazione l’ha seguita all’”Accademia di Teatro” a Zurigo e l’ha portata a termine a Milano\, presso il “CRT – Centro di ricerca di teatro”.Nei suoi spettacoli quasi privi di parole crea dei piccoli universi assurdi in cui i suoi personaggi combattano con grande coraggio – ma invano – alla ricerca della felicità. La loro situazione tragicomica viene esposta in modo spietato e crudele\, offrendo così al pubblico il massimo di divertimento. I suoi luoghi di recitazione sono i più disparati: dai teatri stabili alle ex-fabbriche\, dalle sale da concerto ai centri culturali\, dai festival alle favelas e\, ovunque\, viene accolta con entusiasmo sia dal pubblico sia dalla stampa. \n  \nIngresso:\nIntero CHF 30\nAVS e studenti CHF 25\nRagazzi fino ai 15 anni CHF 15\nBambini CHF 10 \n  \n \n  \n
URL:https://www.ilgatto.ch/event/gaia-gaudi/
LOCATION:via Muraccio 21\, Ascona\, 6612\, Svizzera
CATEGORIES:A tout public
ATTACH;FMTTYPE=image/jpeg:https://www.ilgatto.ch/wp-content/uploads/2022/08/GaiaGaudi_800.jpg
ORGANIZER;CN="Teatro%20del%20Gatto":MAILTO:info@ilgatto.ch
END:VEVENT
END:VCALENDAR