BEGIN:VCALENDAR
VERSION:2.0
PRODID:-//Il Gatto - ECPv4.6.18//NONSGML v1.0//EN
CALSCALE:GREGORIAN
METHOD:PUBLISH
X-WR-CALNAME:Il Gatto
X-ORIGINAL-URL:https://www.ilgatto.ch
X-WR-CALDESC:Events for Il Gatto
BEGIN:VEVENT
DTSTART;TZID=Europe/Rome:20181130T203000
DTEND;TZID=Europe/Rome:20181130T203000
DTSTAMP:20260424T113514
CREATED:20180905T194353Z
LAST-MODIFIED:20181010T072502Z
UID:4909-1543609800-1543609800@www.ilgatto.ch
SUMMARY:FUORI MISURA - Il Leopardi come non ve lo ha mai raccontato nessuno
DESCRIPTION:Rassegna A’ToutPublic \nTesto e regia Valeria Cavalli e Claudio Intropido\nAssistente alla regia e voce fuori campo Pietro De Pascalis\nCon Andrea Robbiano\nCollaborazione musiche Gipo Gurrado\nProduzione MTM Manifatture Teatrali Milanesi – Teatro Litta Quelli di Grock Associati\nhttp://www.mtmteatro.it/tag/quelli-di-grock/\nspettacolo per tutti a partire da 11 anni \nLo spettacolo:\nLa storia è quella di Andrea che ha un sogno: insegnare. Ma nonostante il 110 e lode in Lettere per vivere è costretto a lavorare in un call center\, finché un giorno finalmente riceve l’incarico di una supplenza in un liceo. La professoressa che deve sostituire gli lascia l’arduo compito di spiegare “vita e opere di Giacomo Leopardi”. . E in queste aule\, già di per sè strette\, alcuni autori per la loro grandezza ci stanno a malapena. Uno di questi è Leopardi. Non è facile sciogliere la sua figura dal peso degli stereotipi\, dei secoli e dei programmi scolastici\, per restituirlo alla limpidezza delle sue parole e nella lucidità feroce e affilata delle sue domande. Serve un’emozione\, un passaggio empatico di testimone che permetta agli spettatori di scavalcare i due secoli che li separano dal poeta per ritrovare in lui i nostri stessi desideri\, ansie\, illusioni.” Fuori Misura non è quindi un saggio recitato sul palco\, non è neppure una biografia\, è un’appassionata e coinvolgente “lezione” sul poeta che inevitabilmente ci porta a ragionare sull’essere “fuori misura”\, sulla difficoltà di essere conosciuti nel mondo solo per il nostro involucro corporeo. Giudicati\, a volte offesi e avviliti\, in una società che è più portata ad allontanare che ad accogliere\, ad accettare ciò che è ragionevolmente “nella norma”. Ne nasce una magica “lezione” nella quale si mescoleranno poesie\, riflessioni personali\, interazioni con la platea\, momenti di grande ironia e divertimento \nRecensioni \n(…)E al nostro arrivo non stupisce vedere la sala gremita di un pubblico vario come non mai: dalla signora impellicciata della Milano bene a intere classi di liceo. A questo punto\, non stiamo davvero più nella pelle.(…) La rappresentazione a cui assistiamo non è ciò che ci aspettavamo\, è decisamente meglio! Scene impagabili in cui gli applausi spontanei non si sono risparmiati.(…) “Fuori Misura” vince su tutta la linea: intrattiene\, insegna e\, mentre volge al termine\, riesce anche a mandarci un messaggio\, legato proprio a quel titolo tanto curioso.  in poco più di un’ora\, Robbiano ci ha mostrato i magici poteri del teatro.Masedomani.it Roberto Rognoni \nAlternando sapientemente momenti più comici e spensierati a riflessioni intime e drammatiche\, Robbiano cattura così l’attenzione di un pubblico difficile\, spesso composto da ragazzi e adolescenti\, proprio coloro che a scuola si stanno confrontando con questo colosso della letteratura difficile da avvicinare: Andrea Robbiano li prende per mano e senza neanche che se ne accorgano apre le loro orecchie\, la loro mente e il loro cuore alle parole del poeta. Ma questo spettacolo non parla soltanto ai ragazzi. MilanoTeatri Beatrice Marzorati  \n(…)è una commedia fresca\, ben recitata\, furba e accattivante (…)Il divertimento in platea è assicurato.(…) La comicità\, a tratti esilarante\, si mescola alla poesia e a cenni di attualità. Se l’inadeguatezza è la protagonista della pièce\, sottotraccia si avvertono altri temi\, come la difficoltà dei “giovani” d’oggi a immaginarsi il futuro\, la crisi e il precariato che fanno da sfondo.(…) Andrea Robbiano è un mattatore eclettico. Con una comicità impetuosa e surreale  Laura Timpanaro  \n(…) Robbiano si cala nei panni dell’insegnante con ironia\, sensibilità e intelligenza. Il pubblico in sala è ammaliato dalla sua bravura. Quando poi parte la lezione\, la meraviglia s’impossessa degli spettatori: non è facile assistere a spiegazioni tanto ispirate e profonde. Quell’uomo solitario\, malato e gobbo si trasforma e\, mentre lo spettacolo procede\, diventa immenso: fuori misura\, come indica il titolo. Teatro Persinsala.it Serena Cirini \nIngresso:\nAdulti: CHF 25 (Circuito Girino)\nAVS: CHF 20\nStudenti: CHF 15\nRagazzi fino 19 anni CHF 10 \n
URL:https://www.ilgatto.ch/event/fuori-misura-il-leopardi-come-non-ve-lo-ha-mai-raccontato-nessuno/
LOCATION:via Muraccio 21\, Ascona\, 6612\, Svizzera
CATEGORIES:Rassegna Teatrale
ATTACH;FMTTYPE=image/png:https://www.ilgatto.ch/wp-content/uploads/2018/09/leopardigirino.png
ORGANIZER;CN="Teatro%20del%20Gatto":MAILTO:info@ilgatto.ch
END:VEVENT
END:VCALENDAR