BEGIN:VCALENDAR
VERSION:2.0
PRODID:-//Il Gatto - ECPv4.6.18//NONSGML v1.0//EN
CALSCALE:GREGORIAN
METHOD:PUBLISH
X-WR-CALNAME:Il Gatto
X-ORIGINAL-URL:https://www.ilgatto.ch
X-WR-CALDESC:Events for Il Gatto
BEGIN:VEVENT
DTSTART;TZID=Europe/Rome:20181125T160000
DTEND;TZID=Europe/Rome:20181125T160000
DTSTAMP:20260424T100420
CREATED:20180905T194524Z
LAST-MODIFIED:20181109T173344Z
UID:4974-1543161600-1543161600@www.ilgatto.ch
SUMMARY:FERDINAND
DESCRIPTION:Regia Carlos Saldanha\nGenere animazione\, commedia\, azione\, drammatico\nAnno 2017\nDurata 108 min \nTrama:\nFerdinando è un magnifico toro che adora i fiori e odia combattere. È cresciuto in un allevamento di tori da corrida mas è l’unico degli ospiti a non aver voglia di andare a morire nell’arena\, e qualcosa gli suggerisce che non siano sempre i tori a trionfare contro il matador. Da torellino dunque è fuggito ed è stato accolto da Nina\, una bambina il cui padre alleva fiori: è il paradiso per Ferdinand\, ma quando diventerà adulto un equivoco lo riporterà sulla strada della competizione. Riuscirà il gigante buono ad affermare la propria natura pacifica? \n \n  \nIngresso gratuito \n
URL:https://www.ilgatto.ch/event/ferdinand/
LOCATION:via Muraccio 21\, Ascona\, 6612\, Svizzera
CATEGORIES:Mini Cinema
ATTACH;FMTTYPE=image/jpeg:https://www.ilgatto.ch/wp-content/uploads/2018/08/ferd800.jpg
ORGANIZER;CN="Teatro%20del%20Gatto":MAILTO:info@ilgatto.ch
END:VEVENT
END:VCALENDAR