BEGIN:VCALENDAR
VERSION:2.0
PRODID:-//Il Gatto - ECPv4.6.18//NONSGML v1.0//EN
CALSCALE:GREGORIAN
METHOD:PUBLISH
X-WR-CALNAME:Il Gatto
X-ORIGINAL-URL:https://www.ilgatto.ch
X-WR-CALDESC:Events for Il Gatto
BEGIN:VEVENT
DTSTART;TZID=Europe/Rome:20240302T203000
DTEND;TZID=Europe/Rome:20240302T203000
DTSTAMP:20260423T102100
CREATED:20240205T130116Z
LAST-MODIFIED:20240205T130116Z
UID:11280-1709411400-1709411400@www.ilgatto.ch
SUMMARY:EL TROP VOREE U STÀ MIA IN PEE
DESCRIPTION:Commedia dialettale in 2 atti \nUna commedia dialettale di: Josée Bachstein-Rondalli\nRegia: Igea Vetterli\nCon: Marco Dolci\, Simone Isidori\, Dodo Righetti\, Milly Pallone-Epis\, Roberto Delprete\nVincenzo Pata\, Regina Devittori\, Ugo Mocettini\, Josèe Bachstein-Rondalli\, Valdo Fiscalini\nProduzione: Teatro Il Grappolo di Tenero \nLo spettacolo:\nIl sindaco di un paese di montagna\, con la passione per la caccia\, decide di trasformare il suo albergo fatiscente in una clinica specializzata in cure di rigeneranti e di bellezza per persone benestanti.\nQuesto progetto è però disapprovato dagli abitanti e dal consiglio comunale\, desiderosi che la struttura fosse convertita in una casa di cura per anziani.\nL’unico sostenitore sarà il macellaio del paese prospettando lauti guadagni. La caparbietà del sindaco avrà la meglio ma la sua vanità e presunzione lo porterà\, insieme al suo amico macellaio\, a delle inattese circostanze. \nIngresso:\nAdulti CHF 15\nBambini CHF 10 \n
URL:https://www.ilgatto.ch/event/el-trop-voree-u-sta-mia-in-pee/
LOCATION:via Muraccio 21\, Ascona\, 6612\, Svizzera
CATEGORIES:Ospitiamo a Teatro
ATTACH;FMTTYPE=image/jpeg:https://www.ilgatto.ch/wp-content/uploads/2024/02/cdm_800.jpg
ORGANIZER;CN="Teatro%20del%20Gatto":MAILTO:info@ilgatto.ch
END:VEVENT
END:VCALENDAR