BEGIN:VCALENDAR
VERSION:2.0
PRODID:-//Il Gatto - ECPv4.6.18//NONSGML v1.0//EN
CALSCALE:GREGORIAN
METHOD:PUBLISH
X-WR-CALNAME:Il Gatto
X-ORIGINAL-URL:https://www.ilgatto.ch
X-WR-CALDESC:Events for Il Gatto
BEGIN:VEVENT
DTSTART;TZID=Europe/Rome:20231202T173000
DTEND;TZID=Europe/Rome:20231202T173000
DTSTAMP:20260424T100711
CREATED:20231122T114725Z
LAST-MODIFIED:20231129T082454Z
UID:11206-1701538200-1701538200@www.ilgatto.ch
SUMMARY:DONNE IN MUSICA
DESCRIPTION:Spettacolo a sostegno del progetto “Dillo Forte” dell’ ASPI – Fondazione della Svizzera Italiana per l’aiuto \, il sostegno e la protezione dell’infanzia. \nCon: Marta Jornet Espì ( Flauto) e Jasmine Gitti (Arpa)\nwww2.aspi.ch \nLo spettacolo:\nIl progetto è promosso  dal Club “Soroptimist Locarno” contro la violenza sulle donne nel contesto dell’ “Orange days” \, giornate internazionali contro la violenza sulle donne\, e “Dillo Forte” dell’ANSPI.\nL’ANSPI è una fondazione non profit della Svizzera Italiana che ha come missione la prevenzione di qualsiasi forma di violenza \, maltrattamento e abuso sessuale su minore.\n“Dillo Forte” è il programma di consolidamento per 4a/5a elementare per la prevenzione del maltrattamento e degli abusi sessuali sui bambini.\nHa come obiettivo quello di rafforzare le competenze di vita dei bambini\, come fattori di protezionedegli abusi sessuali e dei maltrattamenti sui minori. \nIngresso:\nIntero CHF 30\nInfo e prenotazioni:\nSig.ra Montano Guglielmina\n+41 79 127 93 87\ngughi.mo@gmail.com \n
URL:https://www.ilgatto.ch/event/donne-in-musica/
LOCATION:via Muraccio 21\, Ascona\, 6612\, Svizzera
CATEGORIES:Ospitiamo a Teatro
ATTACH;FMTTYPE=image/jpeg:https://www.ilgatto.ch/wp-content/uploads/2023/11/donne-in-musica_800.jpg
ORGANIZER;CN="Sig.ra%20Montano%20Guglielmina":MAILTO:gughi.mo@gmail.com
END:VEVENT
END:VCALENDAR