BEGIN:VCALENDAR
VERSION:2.0
PRODID:-//Il Gatto - ECPv4.6.18//NONSGML v1.0//EN
CALSCALE:GREGORIAN
METHOD:PUBLISH
X-WR-CALNAME:Il Gatto
X-ORIGINAL-URL:https://www.ilgatto.ch
X-WR-CALDESC:Events for Il Gatto
BEGIN:VEVENT
DTSTART;TZID=Europe/Rome:20241212T150000
DTEND;TZID=Europe/Rome:20241212T150000
DTSTAMP:20260423T085148
CREATED:20240722T083737Z
LAST-MODIFIED:20241029T090834Z
UID:11351-1734015600-1734015600@www.ilgatto.ch
SUMMARY:CONCERTO DI NATALE
DESCRIPTION:Con: Coro Calliope\nDirezione: Maestro Andrea Cupia\nProduzione: Coro Calliope \nLo spettacolo:\nBrani classici della tradizione natalizia\, come Stille Nacht che ci riportano ai nostri canti d’infanzia\, passando anche da particolari arrangiamenti americani e dall’esibizione di brani contemporanei in lingua inglese e latina come un melodico Magnificat natalizio!\nUn piacevole viaggio musicale verso il Natale! \n  \nLa compagnia:\nIl Coro Callìope nasce nel 1923 come Kirchenchor della Comunità Evangelica Riformata di Locarno con sole voci femminili.\nIl Kirchenchor viene rinominato Gemischter Chor Locarno – Coro Misto Locarno nel 1929 con l’arrivo delle voci maschili. Nel 2012 il nome ufficiale diventa Coro Callìope.\nLa Direzione del Coro Callìope è affidata al Maestro Andrea Cupia.\nNonostante le sue origini legate alla Comunità Evangelica\, con la quale prosegue una costruttiva collaborazione\, il coro è laico\, aperto a tutti ed è composto da circa 40 coriste e coristi.\nIl repertorio comprende opere dal periodo barocco al contemporaneo\, con brani sia a cappella sia con accompagnamento strumentale. Nel suo percorso\, il Coro Callìope coltiva collaborazioni e collegamenti con suoni e generi diversi: dalla musica antica alla classica\, toccando tempi e temi lontani e vicini; con riferimento al canto gregoriano\, alla letteratura meno nota\, al jazz\, al pop e ai suoni e agli stli attuali.\nIl Ticinese Ivo Antognini\, l’argentino Martin Palmeri e l’inglese John Rutter sono tre degli autori contemporanei maggiormente interpretati.\nNegli ultimi anni il nostro coro si è esibito assieme a numerosi gruppi strumentali.\nNel 2019 il Coro si è recato in trasferta a New York per un progetto internazionale che ci ha visto sul palco della prestigiosa Carnegie Hall insieme ad altri 200 coristi europei ed americani.\nNel mese di aprile 2022 il Coro è stato invitato a collaborare con il Coro Lirico di Lugano alla rappresentazione dell’opera La Sonnambula di Vincenzo Bellini al Palexpo FEVI di Locarno. In autunno dello stesso anno\, il Coro Callìope ha preso parte al Choir Festival Misatango a Konzerthaus a Vienna. In aprile 2024 diversi coristi hanno preso parte al Festival Misatango alla Philharmonie di Berlino.\nSull’arco degli anni 2023 – 2024 il Coro Callìope ha proposto alcuni appuntamenti dedicati ai festeggiamenti per il suo Centenario. Da menzionare i Concerti dell’Ascensione e dell’Avvento nel 2023 e a maggio di quest’anno un Workshop e la serie di Concerti del Centenario.\nIn questa occasione\, è stata eseguita la Misatango – Misa a Buenos Aires – insieme a coristi esterni iscritti al Workshop. Sempre in questo contesto è anche stata presentata un’opera inedita\, la “Suite Rio de la Plata” basata su alcune poesie di Alfonsina Storni\, Ticinese emigrata in Argentina.\nQuest’opera è stata commissionata al compositore della Misatango Martin Palmeri\, il quale ci ha onorati della sua presenza e collaborazione alla rassegna canora. \nEntrata gratuita per persone in AVS\nNon AVS chf. 10.- \n
URL:https://www.ilgatto.ch/event/concerto-di-natale/
LOCATION:via Muraccio 21\, Ascona\, 6612\, Svizzera
CATEGORIES:Teatro Over 60
ATTACH;FMTTYPE=image/jpeg:https://www.ilgatto.ch/wp-content/uploads/2024/07/Calliope_800.jpg
ORGANIZER;CN="Teatro%20del%20Gatto":MAILTO:info@ilgatto.ch
END:VEVENT
END:VCALENDAR