BEGIN:VCALENDAR
VERSION:2.0
PRODID:-//Il Gatto - ECPv4.6.18//NONSGML v1.0//EN
CALSCALE:GREGORIAN
METHOD:PUBLISH
X-WR-CALNAME:Il Gatto
X-ORIGINAL-URL:https://www.ilgatto.ch
X-WR-CALDESC:Events for Il Gatto
BEGIN:VEVENT
DTSTART;TZID=Europe/Rome:20181104T163000
DTEND;TZID=Europe/Rome:20181104T163000
DTSTAMP:20260424T112417
CREATED:20180905T195248Z
LAST-MODIFIED:20180917T115256Z
UID:4939-1541349000-1541349000@www.ilgatto.ch
SUMMARY:CHE STORIE !
DESCRIPTION:Rassegna domenicAteatro \nRegia Cinzia Morandi\nCon Viviana Gysin e Annamaria Maccauso\nProduzione Teatro Pan\nconsigliato dai 3 ai 9 anni \nLo spettacolo:\nChe storie!” sono storie liberamente tratte da racconti e riportati in scena da due attrici che ce li fanno rivivere in modo divertente e coinvolgente. Ci sono storie piccole e storie un pochino più grandi ma tutte con un denominatore comune. La voglia di comunicare un piccolo messaggio da portare nel cuore. Un messaggio di coraggio o d’amore o…. Storie che ci aiutano a farci sentire un po’ più vicini\, a conoscere e riconoscere nell’altro i nostri sentimenti e le nostre esperienze. Segreti\, personaggi immaginati che si fanno reali\, draghi un po’ diversi ci faranno sorridere\, riflettere e soprattutto sognare. \n…e dopo\, sul palcoscenico\, tanti libri da leggere della Biblioteca Popolare dei Ragazzi di Ascona e una golosa merenda per tutti. \nAdulti: CHF 10\nRagazzi fino a 14 anni: CHF 5 \n  \n  \n  \n
URL:https://www.ilgatto.ch/event/che-storie/
LOCATION:via Muraccio 21\, Ascona\, 6612\, Svizzera
CATEGORIES:DomenicAteatro
ATTACH;FMTTYPE=image/jpeg:https://www.ilgatto.ch/wp-content/uploads/2018/08/800-1.jpg
ORGANIZER;CN="Teatro%20del%20Gatto":MAILTO:info@ilgatto.ch
END:VEVENT
END:VCALENDAR